BEGIN:VCALENDAR
VERSION:2.0
PRODID:-//Dev Samaj - ECPv6.6.2//NONSGML v1.0//EN
CALSCALE:GREGORIAN
METHOD:PUBLISH
X-ORIGINAL-URL:https://www.thedevsamaj.org
X-WR-CALDESC:Events for Dev Samaj
REFRESH-INTERVAL;VALUE=DURATION:PT1H
X-Robots-Tag:noindex
X-PUBLISHED-TTL:PT1H
BEGIN:VTIMEZONE
TZID:Asia/Kolkata
BEGIN:STANDARD
TZOFFSETFROM:+0530
TZOFFSETTO:+0530
TZNAME:IST
DTSTART:20180101T000000
END:STANDARD
END:VTIMEZONE
BEGIN:VEVENT
DTSTART;TZID=Asia/Kolkata:20241214T160000
DTEND;TZID=Asia/Kolkata:20241217T170000
DTSTAMP:20260414T215921
CREATED:20241210T153144Z
LAST-MODIFIED:20241218T153631Z
UID:2916-1734192000-1734454800@www.thedevsamaj.org
SUMMARY:परम पूजनीय भगवान देवात्मा का 174वां शुभ जन्म महोत्सव
DESCRIPTION:[vc_row type=”full_width_background” full_screen_row_position=”middle” column_margin=”default” column_direction=”default” column_direction_tablet=”default” column_direction_phone=”default” bg_color=”#000000″ scene_position=”center” text_color=”dark” text_align=”left” row_border_radius=”none” row_border_radius_applies=”bg” overflow=”visible” overlay_strength=”0.3″ gradient_direction=”left_to_right” shape_divider_position=”bottom” bg_image_animation=”none” shape_type=””][vc_column column_padding=”padding-5-percent” column_padding_tablet=”inherit” column_padding_phone=”inherit” column_padding_position=”all” column_element_direction_desktop=”default” column_element_spacing=”default” desktop_text_alignment=”default” tablet_text_alignment=”default” phone_text_alignment=”default” background_color_opacity=”1″ background_hover_color_opacity=”1″ column_backdrop_filter=”none” column_shadow=”none” column_border_radius=”none” column_link_target=”_self” column_position=”default” gradient_direction=”left_to_right” overlay_strength=”0.3″ width=”1/1″ tablet_width_inherit=”default” animation_type=”default” bg_image_animation=”none” border_type=”simple” column_border_width=”none” column_border_style=”solid”][vc_gallery type=”image_grid” images=”2917\,2918\,2919\,2920″ image_grid_loading=”default” layout=”4″ masonry_style=”true” bypass_image_cropping=”true” item_spacing=”default” gallery_style=”7″ load_in_animation=”none”][/vc_column][/vc_row]
URL:https://www.thedevsamaj.org/event/%e0%a4%aa%e0%a4%b0%e0%a4%ae-%e0%a4%aa%e0%a5%82%e0%a4%9c%e0%a4%a8%e0%a5%80%e0%a4%af-%e0%a4%ad%e0%a4%97%e0%a4%b5%e0%a4%be%e0%a4%a8-%e0%a4%a6%e0%a5%87%e0%a4%b5%e0%a4%be%e0%a4%a4%e0%a5%8d%e0%a4%ae/
LOCATION:देव समाज भवन सेक्टर 36-बी\, Jan Marg\, Sector 36B\, Chandigarh\, Chandigarh\, 160036\, India
END:VEVENT
BEGIN:VEVENT
DTSTART;TZID=Asia/Kolkata:20231225T160000
DTEND;TZID=Asia/Kolkata:20231228T120000
DTSTAMP:20260414T215921
CREATED:20231223T063638Z
LAST-MODIFIED:20231223T065918Z
UID:2563-1703520000-1703764800@www.thedevsamaj.org
SUMMARY:परम पूजनीय भगवान देवात्मा का 173वां शुभ जन्म महोत्सव
DESCRIPTION:[vc_row type=”full_width_background” full_screen_row_position=”middle” column_margin=”default” column_direction=”default” column_direction_tablet=”default” column_direction_phone=”default” bg_color=”#000000″ scene_position=”center” text_color=”dark” text_align=”left” row_border_radius=”none” row_border_radius_applies=”bg” overflow=”visible” overlay_strength=”0.3″ gradient_direction=”left_to_right” shape_divider_position=”bottom” bg_image_animation=”none” shape_type=””][vc_column column_padding=”padding-5-percent” column_padding_tablet=”inherit” column_padding_phone=”inherit” column_padding_position=”all” column_element_direction_desktop=”default” column_element_spacing=”default” desktop_text_alignment=”default” tablet_text_alignment=”default” phone_text_alignment=”default” background_color_opacity=”1″ background_hover_color_opacity=”1″ column_backdrop_filter=”none” column_shadow=”none” column_border_radius=”none” column_link_target=”_self” column_position=”default” gradient_direction=”left_to_right” overlay_strength=”0.3″ width=”1/1″ tablet_width_inherit=”default” animation_type=”default” bg_image_animation=”none” border_type=”simple” column_border_width=”none” column_border_style=”solid”][vc_gallery type=”image_grid” images=”2566\,2567\,2568\,2569″ image_grid_loading=”default” layout=”4″ masonry_style=”true” bypass_image_cropping=”true” item_spacing=”default” gallery_style=”7″ load_in_animation=”none”][/vc_column][/vc_row]
URL:https://www.thedevsamaj.org/event/173rd-birthday-of-bhagwan-dev-atma-ji/
LOCATION:देव समाज भवन सेक्टर 36-बी\, Jan Marg\, Sector 36B\, Chandigarh\, Chandigarh\, 160036\, India
CATEGORIES:Events
ATTACH;FMTTYPE=image/jpeg:https://www.thedevsamaj.org/wp-content/uploads/2023/12/Bhagwan-Devatama-Janam-Mahotsav-Celebration-Card-173-2023-FINAL_page-0001.jpg
END:VEVENT
BEGIN:VEVENT
DTSTART;TZID=Asia/Kolkata:20221207T150000
DTEND;TZID=Asia/Kolkata:20221210T160000
DTSTAMP:20260414T215921
CREATED:20221203T060111Z
LAST-MODIFIED:20221204T124053Z
UID:2407-1670425200-1670688000@www.thedevsamaj.org
SUMMARY:172nd BIRTHDAY OF BHAGWAN DEV ATMA JI
DESCRIPTION:[vc_row type=”full_width_background” full_screen_row_position=”middle” column_margin=”default” column_direction=”default” column_direction_tablet=”default” column_direction_phone=”default” bg_color=”#000000″ scene_position=”center” text_color=”dark” text_align=”left” row_border_radius=”none” row_border_radius_applies=”bg” overlay_strength=”0.3″ gradient_direction=”left_to_right” shape_divider_position=”bottom” bg_image_animation=”none” shape_type=””][vc_column column_padding=”padding-5-percent” column_padding_tablet=”inherit” column_padding_phone=”inherit” column_padding_position=”all” column_element_spacing=”default” background_color_opacity=”1″ background_hover_color_opacity=”1″ column_shadow=”none” column_border_radius=”none” column_link_target=”_self” gradient_direction=”left_to_right” overlay_strength=”0.3″ width=”1/1″ tablet_width_inherit=”default” tablet_text_alignment=”default” phone_text_alignment=”default” bg_image_animation=”none” border_type=”simple” column_border_width=”none” column_border_style=”solid”][vc_gallery type=”image_grid” images=”2410\,2411\,2412\,2413″ image_grid_loading=”default” layout=”4″ masonry_style=”true” bypass_image_cropping=”true” item_spacing=”default” gallery_style=”7″ load_in_animation=”none”][/vc_column][/vc_row]
URL:https://www.thedevsamaj.org/event/172nd-birthday-of-bhagwan-dev-atma-ji/
LOCATION:देव समाज भवन सेक्टर 36-बी\, Jan Marg\, Sector 36B\, Chandigarh\, Chandigarh\, 160036\, India
CATEGORIES:Events
ATTACH;FMTTYPE=image/jpeg:https://www.thedevsamaj.org/wp-content/uploads/2022/12/172-mahotsav.jpg
END:VEVENT
BEGIN:VEVENT
DTSTART;TZID=Asia/Kolkata:20211219T160000
DTEND;TZID=Asia/Kolkata:20211221T150000
DTSTAMP:20260414T215921
CREATED:20211212T074330Z
LAST-MODIFIED:20211212T075913Z
UID:2220-1639929600-1640098800@www.thedevsamaj.org
SUMMARY:171ST BIRTHDAY OF BHAGWAN DEV ATMA JI
DESCRIPTION:रविवार 19 दिसंबर\, 2021\nप्रवेश सभा – शाम 4.30 बजे।\nसभापति – डॉ. (श्रीमती) अगनीज़ ढिल्लों\nविषय – यात्रियों का स्वागत\, महोत्सव का महत्व\, सभाओं से लाभ उठाने के लिए ह्रदय की उपयोगी अवस्था का वर्णन\nस्वागत गीत – देव समाज कॉलेज ऑफ एजुकेशन\, 36 – बी\, चंडीगढ़ \nदूसरी सभा – सांय 6.30 बजे।\nभक्ति संगीत गायन\nप्रतिभागी – देव समाज कॉलेजो के विद्यार्थी।\nसभापति – श्रीमान जगदीश चन्द्र भारद्वाज एडवोकेट।\nमंच संचालिक – डॉ. (श्रीमती) सुनीता रंगबुल्ला \nसोमवार 20 दिसम्बर\, 2021 महोत्सव का विशेष दिन \n\nप्रात: 6.30 बजे भगवान देवात्मा की महिमा सम्बंधी भजनों का कीर्तन सूर्योदय के समय जय ध्वनि \, घड़ियाल वादन\nशुभ जन्म दिवस की विशेष कामना एवं प्रार्थना – श्रीमान राम विलास जी पांडेय\nपरम पूजनीय भगवान देवात्मा की पवन छवि के सम्मुख पुष्पहार अर्पण प्रणाम तथा बैंड वादन\n\nमहासभा – प्रात: 9.30 बजे।\nसभापति – श्रीमान निर्मल सिंह जी ढिल्लों\nविषय – देव जीवनधारी देवात्मा\n– जन धन की अपील\nरक्तदान शिविर – प्रात: 11.00 बजे\nआयोजक: देव समाज कॉलेज ऑफ ऐजुकेशन 36 – बी\, चंडीगढ़ \nदूसरी सभा – प्रात: 04.30 बजे।\nसभापति – श्री राम विलास जी पंडिय\nविषय – भगवन देवात्मा – अच्छे जीवन का आधार। \nमंगलवार 21 दिसम्बर\, 2021  \nप्रथम सभा – प्रातः 8.30 बजे\nसभापति – डॉ. (श्रीमान) रमेश चन्द्र जी गर्ग।\nविषय – नये सेवकों का ग्रहण श्रेणियों में उन्नति एवं पारिवारिक अनुष्ठान\nभाव प्रकाश – प्रातः 10.00बजे\nसभापति – डॉ. (श्रीमान) मनोज मदन जी\nविषय – महोत्सव से पाए हुए लाभों का वर्णन \nदूसरी सभा – दोपहर बजे\nविषय – प्रतिनिधि सभा का निर्वाचन एवं अंत में देव आरती का गान व जय ध्वनि \nसूचना\nप्रवेश सभा से पहले पहुँचे व भाव प्रकाश की सभा तक रहकर महोत्सव का लाभ उठाएं यही महोत्सव की सफलता व् अनुशासन की प्रमुख मांग है। \nकृपया महोत्सव में कोरोना से बचाव के लिए मास्क पहनकर आएं व् उचित दूरी का पालन करें। \nश्रीमान निर्मल सिंह जी ढिल्लों \nसेक्रेटरी द देव समाज\n98147 – 80833 \nश्रीमान मानविंदर सिंह मांगट \nमुख्य प्रशासनिक अधिकारी\n98159 – 32279
URL:https://www.thedevsamaj.org/event/171st-birthday-of-bhagwan-dev-atma-ji/
LOCATION:Chandigarh
CATEGORIES:Events
ATTACH;FMTTYPE=image/jpeg:https://www.thedevsamaj.org/wp-content/uploads/2021/12/mahotsav-background.jpg
END:VEVENT
BEGIN:VEVENT
DTSTART;TZID=Asia/Kolkata:20210814T160000
DTEND;TZID=Asia/Kolkata:20210815T170000
DTSTAMP:20260414T215921
CREATED:20210809T045431Z
LAST-MODIFIED:20210809T045431Z
UID:1207-1628956800-1629046800@www.thedevsamaj.org
SUMMARY:Satya Dharam Bodh Utsav
DESCRIPTION:विशेष सन्मान के योग्य श्रीमान जी/श्रीमती जी!\nसत्य धर्म बोधोत्स्य 14\, 15 अगस्त 2021 दिन शनिवार तथा इतवार को देव समाज भवन सेक्टर 36-बी में मनाया जा रहा है|\nआपकी सेवा में निवेदन है कि आप अपने पारिवारिक व अधिकारी परिचित जनों को साथ लेकर जिन्होंने कोरोना की Full Vaccination या पहला टीका लगवा लिया है वह इस शुभ अवसर पर पधार कर लाभ उठाएं| अपने पहुंचने की सूचना अगस्त तक देने की कृपा करें| \nकार्य प्रणाली \n14 अगस्त 2021 शनिवार\nप्रवेश सभा        4:00 बजे शाम \n15 अगस्त 2021 रविवार\nपहली सभा       10:00 बजे प्रात: काल \nदूसरी सभा        भाव प्रकाश      12:00 बजे \nदूरभाष: 0172-2609545\nमोबाइल: 08968566211\, 09814780833 \nसन्मान भाव से\nनिर्मल सिंह ढिल्लों\nसेक्रेटरी देव समाज
URL:https://www.thedevsamaj.org/event/satya-dharam-bodh-utsav/
LOCATION:देव समाज भवन सेक्टर 36-बी\, Jan Marg\, Sector 36B\, Chandigarh\, Chandigarh\, 160036\, India
CATEGORIES:Events
END:VEVENT
BEGIN:VEVENT
DTSTART;VALUE=DATE:20181221
DTEND;VALUE=DATE:20181222
DTSTAMP:20260414T215921
CREATED:20181221T115552Z
LAST-MODIFIED:20210806T120643Z
UID:1197-1545350400-1545436799@www.thedevsamaj.org
SUMMARY:168TH BIRTH DAY OF BHAGWAN DEV ATMA JI
DESCRIPTION:शुक्रवार 21 दिसंबर\, 2018\nप्रवेश सभा – शाम 4.30 बजे।\nस्वागत गीत – देव समाज कॉलेज ऑफ एजुकेशन\, 36-बी\, चंडीगढ़\nसभापति – श्री मान जगदीश चंद्र भारद्वाज जी। \nदूसरी सभा – रात्रि 6.00 बजे।\nभक्ति संगीत गायन\nप्रतिभागी – देव समाज कॉलेजो के विद्यार्थी।\nसभापति – श्रीमान हुकम सिंह जी चौहान।\nमंच संचालिक – श्रीमती संगीता नटराजन जी \nशनिवार 22 दिसम्बर\, 2018\nप्रथम सभा – प्रात: 9.30 बजे।\nसभापति – डा. ( श्रीमती ) मधु पाराशर जी\nविषय – देवात्मा के लासानी जीवन में त्यागी की महिमा \nदूसरी सभा – प्रात: 11.00 बजे।\nभक्ति संगीत गायन\nप्रतिभागी – देव समाज स्कूलों के विद्यार्थी\nसभापति – श्रीमान बचित्तर सिंह जी।\nमंच संचालिक – श्रीमती सबीहा ढिल्लों मांगट। \nतीसरी सभा सायं 5.00 बजे।\nसभापति – डा. ( श्रीमती ) अगनीज जी ढिल्लों।\nविषय – क्या हम सुरक्षित हैं। \nइतवार 23 दिसम्बर\, 2018 महोत्सव का विशेष दिन\nप्रातः 6.30 बजे से सूर्यौदय के समय घड़ियाल वादन\, जय ध्वनि\, भजन गायन। परम पूजनीय भगवान देवात्मा की पावन छवि के सन्मुख पुष्पहार अर्पण तथा बैंड वादन। \nमहासभा – प्रातः 9.30 बजे\nसभापति – श्रीमान निर्मल सिंह जी ढिल्लों।\nविषय – देव जीवनधारी देवात्मा\nधन और जन की अपील। \nरक्तदान शिविर – प्रातः 11.00 बजे\nदेव समाज कॉलेज ऑफ एजुकेशन\, 36-बी\, चंडीगढ़। \nदूसरी सभा – बच्चों की सभा दोपहर 1.30 बजे\nसभापति – श्रीमान के. नटराजन जी।\nमंच संचालिक – डॉ. श्रीमती सुनीता रंगबुल्ला जी।\nनोट: इस सभा में देव समाज परिवारों के 12 वर्ष तक की आयु के बच्चे भाग लेंगे तथा भगवन देवात्मा की महिमा सम्बन्धी भजन व कविताए सुनाएंगे। \nतीसरी सभा – शाम 4.30 बजे\nसभापति – श्रीमान राम विलास पांडेय जी।\nविषय – परम आवश्यक जीवन दायक मेरे भगवान का सम्बन्ध। \nचौथी सभा – रात 6.30 बजे\nनाटक मंचन\nप्रतिभागी – देव समाज मॉडर्न स्कूल\, नेहरू नगर एवं देव समाज मॉडर्न स्कूल \, सुखदेव विहार नई दिल्ली।\nसभापति – श्रीमान जतिंदर सिंह सिद्धू।\nमंच संचालक – श्रीमान मनोज मदान जी। \nसोमवार 24 दिसम्बर\, 2018\nप्रथम सभा – प्रात: 9.00 बजे।\nसभापति – श्रीमान डॉ. रमेश चंद्र जी गर्ग।\nविषय – नये सेवको का ग्रहण\, श्रेणियों में उन्नति एवं पारिवारिक अनुष्ठान। \nभाव प्रकाश – प्रातः 10.00 बजे।\nसभापति – श्रीमान मनोज मदान जी।\nविषय – महोत्सव से पाये हुए लाभों का वर्णन किया जाएगा। \nदूसरी सभा – दोपहर 12.00 बजे।\nविषय – प्रतिनिधि सभा का निर्वाचन होगा एवं अंत में देव आरती का गान एवं जय ध्वनि।
URL:https://www.thedevsamaj.org/event/168th-birth-day-of-bhagwan-dev-atma-ji/
LOCATION:Chandigarh
ATTACH;FMTTYPE=image/jpeg:https://www.thedevsamaj.org/wp-content/uploads/2021/08/event-20-23-dec.jpg
END:VEVENT
BEGIN:VEVENT
DTSTART;VALUE=DATE:20181112
DTEND;VALUE=DATE:20181113
DTSTAMP:20260414T215921
CREATED:20181112T081453Z
LAST-MODIFIED:20210813T082224Z
UID:1739-1541980800-1542067199@www.thedevsamaj.org
SUMMARY:SAVE ANIMALS RALLY
DESCRIPTION:Dev Samaj Institutions of Chandigarh\, under the aegis of Dev Samaj Society\, organized the ‘Save Animals – Save Humanity’ rally and Signature Campaign on 12th November 2018. More than 600 students and faculty members of all the three institutions including Dev Samaj College of Education-36\, Dev Samaj College for Women-45\, and I. S. Dev Samaj Sr Sec School-21\, participated in the events. The rally was flagged off by The Secretary\, Dev Samaj Society\, Shriṃan Nirmal Singh Dhillon from the Dev Samaj Head Office-36\, Chandigarh in the presence of Member Council Dev Samaj and Principal Dr. (Mrs.) Agnese Dhillon\, Mrs. Sabiha Dhillon\, Chief Co-ordinator I.S.Dev Samaj School\, Mr. Manwinder Singh\, Chief Administrative Officer of DSCE- 36B\, Dr.(Mrs.) Jaspal Kaur\, Principal Dev Samaj College for Women-45\, Mrs. Loveleen Bedi\, Principal I.S. Dev Samaj School -21and NSS/NCC Program Officers of respective institutions. The rally concluded at the I. S. Dev Samaj Sr Sec School via Kisan Bhawan Chowk\, J. W. Marriot Chowk\, Aroma Lights\, and Meat Market. The rally focused on promoting Vegetarianism and ending Cruelty towards Animals. The enthusiastic participants raised slogans about showing kindness towards Animals and adopting the vegetarian way of living. The employees of Dev Samaj Society and the students of Dev Samaj Institutions pledged to save and protect the animals. Honorable Principal and Member Council\, Dev Samaj\, Dr.(Mrs.) Agnese Dhillon addressed the gathering and encouraged by giving a vote of thanks to the young brigade and the organizing team. \nDr. (Mrs.) Agnese Dhillon \nPrincipal
URL:https://www.thedevsamaj.org/event/save-animals-rally/
LOCATION:देव समाज भवन सेक्टर 36-बी\, Jan Marg\, Sector 36B\, Chandigarh\, Chandigarh\, 160036\, India
CATEGORIES:Events
ATTACH;FMTTYPE=image/jpeg:https://www.thedevsamaj.org/wp-content/uploads/2021/08/save_animals_rally1.jpg
END:VEVENT
BEGIN:VEVENT
DTSTART;TZID=Asia/Kolkata:20180929T080000
DTEND;TZID=Asia/Kolkata:20180929T170000
DTSTAMP:20260414T215921
CREATED:20180929T082449Z
LAST-MODIFIED:20210813T084430Z
UID:1742-1538208000-1538240400@www.thedevsamaj.org
SUMMARY:KERALA FLOOD RELIEF
DESCRIPTION:
URL:https://www.thedevsamaj.org/event/kerala-flood-relief/
LOCATION:देव समाज भवन सेक्टर 36-बी\, Jan Marg\, Sector 36B\, Chandigarh\, Chandigarh\, 160036\, India
CATEGORIES:Events
ATTACH;FMTTYPE=image/jpeg:https://www.thedevsamaj.org/wp-content/uploads/2021/08/kerala-flood-relief1.jpg
END:VEVENT
BEGIN:VEVENT
DTSTART;TZID=Asia/Kolkata:20180310T080000
DTEND;TZID=Asia/Kolkata:20180310T170000
DTSTAMP:20260414T215921
CREATED:20180310T084552Z
LAST-MODIFIED:20210813T084745Z
UID:1745-1520668800-1520701200@www.thedevsamaj.org
SUMMARY:MAT PITA SANTAAN DIVAS
DESCRIPTION:Mat Pita Santaan Divas was celebrated with great zeal and enthusiasm at Dev Samaj College of Education\, Sector 36-B\, Chandigarh. Dr.(Mrs.) Agnese Dhillon\, Principal \,of the college welcomed the chief guest Sh. B.L. Sharma\, Secretary\, Higher Education\,U.T. Administration\, Chandigarh. The Guest of Honour on the occassion was Mr.Rakesh Kumar Popli (PCS) Director Higher Education\, U.T.Administration\, Chandigarh. Shri Nirmal Singh Ji Dhillon\, Secretary\, Dev Samaj\, emphasized on the unconditional love and care of parents which cannot be at par with any other relation in this universe. \nThe function started with college prayer “Bhala Chahna” presented by students of the college followed by Bhav Parkash by Dr.(Mrs.) Agnese Dhillon\, Principal of the college in which she said that we should sincerely acknowledge the efforts of our parents and always be respectful towards them. The students of the college- Romilla\, Neha\, Komal\, Durga\, Varsha\, Manpreet\, Kamra\, Shalu\, Rakhee and Natasha also expressed their heartfelt feelings towards their parents. A skit was played by the students of the college on the theme. Sh. B.L. Sharma shared his emotional moments with his mother and also appreciated the efforts and about the vision & mission of the college. Mr. Rakesh Kumar Popli spoke about the role of parents in instilling moral values among children. The function concluded with the unique ceremony of garlanding the parents by the students. Dr.(Mrs.) Agnese Dhillon\, Principal congratulated everybody for making this auspicious programme a success. \nDr. (Mrs.) Agnese Dhillon \nPrincipal
URL:https://www.thedevsamaj.org/event/mat-pita-santaan-divas/
LOCATION:देव समाज भवन सेक्टर 36-बी\, Jan Marg\, Sector 36B\, Chandigarh\, Chandigarh\, 160036\, India
CATEGORIES:Events
ATTACH;FMTTYPE=image/jpeg:https://www.thedevsamaj.org/wp-content/uploads/2021/08/mat-pita-santaan-divas.jpg
END:VEVENT
END:VCALENDAR